Workbook

Sheet 00_Leitfaden
A1: CLARIFIED IT | Vorbereitung auf die NIS2-Bewertung
A3: Version 1.0 • 6. Oktober 2026 • Vorläufiger Fragebogen auf der Grundlage der vom Kunden angegebenen Informationen. Es handelt sich nicht um ein Audit, eine offizielle Selbstbewertung oder eine Zertifizierung.
A5: Erstellt von Clarified IT | CLARIFIED SRL
A6: Schritt | B6: Wer/wo | C6: Was zu tun ist
A7: 01 | B7: Aufbewahrung des ursprünglichen Informationsblatts | C7: Lesen Sie zuerst das PDF zur Erstklassifizierung; diese Excel-Arbeitsmappe ergänzt es und ersetzt es nicht.
A8: 02 | B8: Vollständiges 01_Profil | C8: Verwenden Sie für jede juristische Person eine Kopie, geben Sie ungefähre Volumina und Kontaktrollen an; laden Sie zu diesem Zeitpunkt keine vertraulichen Dokumente hoch.
A9: 03 | B9: Management: 02_Leitung | C9: 14 Fragen zu Verantwortlichkeiten, kritischen Aktivitäten, Risiken und Entscheidungen. Geschätzte Zeit: 10-15 Minuten, abhängig von den verfügbaren Informationen.
A10: 04 | B10: IT: 03_IT und 04_Sonderfaelle | C10: 24 allgemeine Fragen plus 6 spezielle Kontextfragen, die von der internen IT, dem Anbieter oder der Gruppe auszufüllen sind. Geschätzte Zeit: 15-25 Minuten.
A11: 05 | B11: 05_Fristen ausfüllen | C11: Wählen Sie den bekannten Status und die verfügbaren Daten aus; raten Sie nicht die Daten oder die Klassifizierung; Fristen werden separat validiert.
A12: 06 | B12: Lesen Sie 06_Zusammenfassung | C12: Es werden nur Vervollständigungen und deklarierte Antworten angezeigt. „Ja bedeutet nicht, dass eine Kontrolle getestet oder die Einhaltung bestätigt wurde.
A13: 07 | B13: Senden Sie die fertige Kopie | C13: Verwenden Sie den mit Clarified vereinbarten Kanal. Eine „unbekannte Antwort ist nützlich und stellt keine Feststellung der Nichteinhaltung dar.
A15: ZELLEN ZUM VOLLSTÄNDIGEN: hellgelber Hintergrund. Wählen Sie eine Option aus der Liste jeder Zelle.
A17: Ja | C17: Nach den bekannten Informationen ist die beschriebene Situation in dem betreffenden Anwendungsbereich gegeben und wird anschließend mit Beweisen bestätigt.
A18: Teilweise | C18: Es existiert nur für einige Systeme, Personen, Websites oder Teile der Frage.
A19: Nein | C19: Die beschriebene Maßnahme/das beschriebene Verfahren wird nach den bekannten Informationen nicht durchgeführt.
A20: Unbekannt | C20: Wir haben die Informationen nicht oder können sie nicht bestätigen, fordern Sie keine technische Untersuchung, nur um dieses Blatt auszufüllen.
A21: Möglicherweise nicht anwendbar | C21: Erläutern Sie kurz den Grund in den Anmerkungen: Dies ist kein rechtlicher Ausschluss einer Kontrolle; die Anwendbarkeit wird während der Bewertung validiert.
A23: NICHT eingeben: Passwörter, Schlüssel, Token, IP-Adressen, Konfigurationen, Benutzerlisten, Clientdaten oder Schwachstellenberichte.
A25: Das Ausfüllen und Zurückgeben dieser Arbeitsmappe berechtigt nicht dazu, ein Tool anzuschließen, die Infrastruktur zu scannen, Systeme zu ändern oder jemanden für das Marketing zu abonnieren.
A27: Ergebnis: vorläufiger Umfang, zu klärende Informationen und gegebenenfalls ein Bewertungs- oder Auditangebot. Diese Antworten dienen nicht zur Vergabe von DNSC-Punktwerten.
A29: Technische Grundlage: Die 63 CIS v8-Fragen (Center of Internet Security Protocols - v.8) sind in 44 Fragen zusammengefasst, ergänzt um NIS2/DNSC-Inhalte. Die sechs Funktionen werden thematisch abgedeckt, ohne den entsprechenden Katalog zu ersetzen.
A31: Kontakt: Cristian Apostol • office@clarified.ro • +40 774 456 127 • it.clarified.ro/nis2
A33: Wesentliche Validierungen, Kostenschätzungen und jeder technische Betrieb werden separat in Auftrag gegeben und in den Umfang einbezogen.

Sheet 01_Profil
A1: 01 | Profil des Rechtsträgers und Umfang
A3: Vom koordinierenden Ansprechpartner auszufüllen; ungefähre Volumen angeben, ohne Zugriff oder Konfigurationsexporte; Kontaktdaten werden zur Verwaltung dieser Anfrage verwendet.
A6: ID | B6: Information | C6: Antwort | D6: Anleitung | E6: Fakultative Anmerkung
A7: P01 | B7: Name des Unternehmens und rumänische Steueridentifikationsnummer (CUI) | D7: Nur eine juristische Person; nicht die vollständige Kundenliste angeben.
A8: P02 | B8: Industrie/tatsächliche Tätigkeit | D8: Kurze Beschreibung; verwenden Sie das ursprüngliche Klassifikationsblatt für die Klassifizierung, anstatt sich ausschließlich auf den rumänischen CAEN-Code zu verlassen.
A9: P03 | B9: Koordinationskontakt | D9: Name / Rolle und professionelle E-Mail-Adresse, die für diese Anfrage unbedingt erforderlich ist.
A10: P04 | B10: IT-Kontakt | D10: Rolle und professionelle E-Mail-Adresse; dies kann der Anbieter oder Gruppenkontakt sein.
A11: P05 | B11: Wer verwaltet die IT? | D11: Wählen Sie das Primärmodell aus; die genaue Zuordnung wird später geklärt.
A12: P06 | B12: Beantragter Anwendungsbereich | D12: Ein einzelnes Formular bestätigt nicht automatisch die gesamte Gruppe.
A13: P07 | B13: Ungefähre Zahl der Verwender | D13: Nur für die Servicegrößenbestimmung; dies ist nicht der gesetzliche Größentest.
A14: P08 | B14: Ungefähre Anzahl der Geräte | D14: Verwaltete Computer, Server und mobile Geräte; keine Listen oder Namen angeben.
A15: P09 | B15: Anzahl der Standorte | D15: Nur Standorte in den vorläufigen Anwendungsbereich aufnehmen.
A16: P10 | B16: Primäre Arbeitsumgebung | D16: Ein Produkt bestätigt nicht, dass ein Steuerelement konfiguriert ist oder funktioniert.
A17: P11 | B17: Infrastruktur | D17: Geben Sie keine Mandantenkennungen, Adressen oder Konfigurationen ein.
A18: P12 | B18: Verwaltete Clients/Drittsysteme | D18: Relevant für MSP/MSSP-Operationen und Umgebungstrennung; geben Sie keine Kundennamen ein.
... A29: P23 | B29: Abschlussdatum | D29: Anzugeben ist das bekannte Datum, nicht das Datum, an dem die rechtlichen Verpflichtungen begannen.
A31: Optional: Hinweise helfen bei der Größenbestimmung und dürfen keine Mitarbeiter-/Kundendaten oder verwertbare technische Informationen enthalten.

Sheet 02_Leitung
A1: 02 | Leitung und Verantwortlichkeiten
A3: 14 Fragen an das Management: Antwort aus den bekannten Informationen; die IT kann später Erklärungen hinzufügen.
A6: ID | B6: Fragestellung | C6: Im Klartext | D6: Antwort | E6: Wer bestätigen kann | F6: Anmerkung/Einschränkung
A7: M01 | B7: Hat das Management eine Person ernannt, die die Sicherheit koordiniert, die ihre Verantwortung versteht? | C7: Geben Sie die Rolle ohne zusätzliche personenbezogene Daten an; der IT-Provider ersetzt nicht automatisch die rechtmäßig bestellte Person.
A8: M02 | B8: Kennen Sie den Status des Unternehmens in Bezug auf die DNSC und wer überwacht Fristen und Kommunikation? | C8: Geben Sie bekannte Daten in Profil und Fristen ein; nehmen Sie keine Klassifizierung an.
A9: M03 | B9: Wissen Sie, welche Aktivitäten und Informationen vorrangig geschützt werden müssen, damit das Unternehmen tätig sein kann? | C9: Beispiele: Lieferung, Produktion, Kundenservice, Lohnabrechnung, keine Datenbanken oder Informationen über Ihre Kunden senden.
A10: M04 | B10: Gibt es eine Cyber-Risikobewertung und eine Person, die entscheidet, wie die Risiken behandelt werden? | C10: Die Auswirkungen auf den Betrieb und das Risiko, das nach den Maßnahmen verbleibt, sind von Bedeutung, nicht nur die Liste der technischen Probleme.
A11: M05 | B11: Gibt es vom Management genehmigte Sicherheitsregeln, die den Menschen mitgeteilt wurden, die sie befolgen müssen? | C11: Lokale oder Gruppenregeln können gelten, eine unterzeichnete Richtlinie allein beweist nicht, dass sie umgesetzt wird.
A12: M06 | B12: Erhält das Management regelmäßige Risikoaktualisierungen und entscheidet über die benötigten Ressourcen? | C12: Zum Beispiel einen Bericht, der Themen, Eigentümer, Optionen und Kosten aufzeigt. Wir fragen nicht nach dem genauen Budget in diesem Arbeitsbuch.
A13: M07 | B13: Sind die Anbieter, von denen der Betrieb abhängt, und ihre Sicherheitsverantwortung bekannt? | C13: Beispiele: IT, Cloud, Software, Wartung. Verträge und was passiert, wenn der Anbieter nicht mehr liefern kann, sind ebenfalls relevant.
A14: M08 | B14: Haben Management und Mitarbeiter ein ihrer Rolle angemessenes Sicherheitstraining erhalten? | C14: Dazu gehört auch das Erkennen verdächtiger Nachrichten und das Wissen, wie ein Vorfall gemeldet werden kann.
A15: M09 | B15: Gibt es einen Prozess, um die IT zu informieren, wenn eine Person beitritt, ihre Rolle wechselt oder geht? | C15: Ziel ist es, den Zugang unverzüglich zu gewähren und zu widerrufen und die Ausrüstung zurückzugewinnen.
A16: M10 | B16: Haben Sie festgestellt, wie lange Operationen nicht verfügbar sein können und wie viele Daten ohne inakzeptable Auswirkungen verloren gehen können? | C16: Diese Grenzen leiten die Wiederherstellung. Sie müssen die technischen Begriffe RTO oder RPO nicht kennen, um zu antworten.
A17: M11 | B17: Werden im Falle eines Vorfalls die Personen, die entscheiden und mit dem DNSC kommunizieren, Kunden und Partner identifiziert? | C17: Bitten Sie das Verkaufsteam nicht, einen aktiven Vorfall zu verwalten, sondern benachrichtigen Sie unverzüglich die verantwortliche Person und das Reaktionsteam.
A18: M12 | B18: Werden die Bewertungs-, Test- und Auditergebnisse beibehalten und ihre Empfehlungen verfolgt? | C18: Fügen Sie jetzt keine sensiblen Berichte bei, geben Sie nur an, ob sie existieren und wer sie später zur Verfügung stellen kann.
... A20: M14 | B20: Wenn die Sicherheit von der Gruppe oder einem Partner verwaltet wird, sind lokale Aufgaben und verfügbare Beweise klar? | C20: Wählen Sie nur „Möglicherweise nicht zutreffend aus, wenn dieses Modell nicht verwendet wird.
A22: Die Antworten sind vorläufige Erklärungen: Dokumente, Konfigurationen und Wirksamkeit werden in der Vertragsphase anhand von Nachweisen validiert.

Sheet 03_IT
A1: 03 | Technischer Überblick
A3: 24 Fragen an die interne IT/Provider/Gruppe. Führen Sie keine neuen Scans oder Datenerfassungen ausschließlich zum Ausfüllen dieser Arbeitsmappe durch.
A6: ID | B6: Fragestellung | C6: Im Klartext | D6: Antwort | E6: Wer bestätigen kann | F6: Anmerkung/Einschränkung
A7: T01 | B7: Haben Sie eine aktuelle Liste der verwendeten Computer, Server und anderen Geräte? | C7: Soweit bekannt, umfasst es Geräte an Standorten, die aus der Ferne verwendet werden, und in der Cloud? Exportieren Sie das Inventar jetzt nicht.
A8: T02 | B8: Haben Sie eine Liste der verwendeten Anwendungen und Online-Dienste, einschließlich derjenigen, die von Abteilungen gekauft wurden? | C8: Lokale Software und Online-Abonnements, es genügt, die Existenz der Liste zu bestätigen und die Person zu identifizieren, die sie führt.
A9: T03 | B9: Wissen Sie, ob es nicht unterstützte Software oder Geräte gibt und haben Sie eine Möglichkeit, diese Ausnahmen zu verwalten? | C9: Das bedeutet nicht, dass alles sofort ersetzt werden muss, sondern es geht um Identifikation, Risiko und Optionen.
A10: T04 | B10: Sind Geräte nach gängigen Sicherheitsregeln konfiguriert? | C10: Beispiele: Bildschirmsperre, Änderung von Standardpasswörtern, Firewall und Deaktivierung unnötiger Funktionen. „Ja deckt alle relevanten Elemente ab.
A11: T05 | B11: Wird die Installation und Nutzung nicht genehmigter Software, Erweiterungen und Komponenten kontrolliert? | C11: Wir fordern keine Softwarelisten oder Konfigurationsbefehle an. Geben Sie nur an, ob ein Steuerelement vorhanden ist.
A12: T06 | B12: Sind Zugangskonten bekannt und sind diese nicht mehr erforderlich? | C12: Fügen Sie Mitarbeiter, Anbieter und Konten ein, die von Anwendungen verwendet werden. Geben Sie keine Benutzernamen an.
A13: T07 | B13: Sind Administratorprivilegien begrenzt und von Konten getrennt, die für die tägliche Arbeit verwendet werden? | C13: Beispiele: ein separates Administratorkonto und Zugriff auf Personen, die es benötigen.
A14: T08 | B14: Wird die Multi-Faktor-Authentifizierung für den Fernzugriff und sensible Konten verwendet? | C14: Zusätzlich zu einem Passwort: eine Authentifizierungs-App, einen Schlüssel oder einen anderen Faktor Wählen Sie „Teilweise aus, wenn nicht alle relevanten Zugriffe abgedeckt sind.
A15: T09 | B15: Wird der Zugriff auf Dateien und Anwendungen durch Rolle gewährt und überprüft? | C15: Geben Sie keine Dateien, Clientlisten oder detaillierte Berechtigungen an externe Parteien.
A16: T10 | B16: Haben Computer und Server einen aktiven Sicherheitsschutz, wobei Warnungen eine verantwortliche Person oder einen Dienst erreichen? | C16: Antivirus-/Verhaltensschutz und Warnhinweise: Eine erworbene Lizenz belegt nicht die Abdeckung jedes Systems.
A17: T11 | B17: Sind sensible Daten bei Bedarf durch Verschlüsselung im Ruhe- und Transitbetrieb geschützt? | C17: Zum Beispiel einen verschlüsselten Laptop und eine sichere Verbindung: Bitten Sie keine Schlüssel oder geheime Zertifikate an oder senden Sie sie.
A18: T12 | B18: Gibt es erzwungene Regeln für sensible Daten, die gemeinsame Nutzung, Aufbewahrung und Löschung? | C18: Dies kann die Kennzeichnung oder die Verhinderung von Datenverlusten umfassen, da hier keine bestimmten Produkte oder Lizenzen vorgeschrieben sind.
... A30: T24 | B30: Wurden technische Überprüfungen oder Sicherheitstests durchgeführt und die identifizierten Probleme verfolgt? | C30: Geben Sie an, dass sie existieren und ungefähr zum Zeitpunkt ihres Auftretens, ohne den Bericht beizufügen; ein Penetrationstest wird nicht als gleichwertig mit einem NIS2-Audit angesehen.
A32: Die Antworten sind vorläufige Erklärungen: Dokumente, Konfigurationen und Wirksamkeit werden in der Vertragsphase anhand von Nachweisen validiert.

Sheet 04_Sonderfaelle
A1: 04 | Besondere Situationen und externe Dienstleistungen
A3: 6 Kontextfragen. „Möglicherweise nicht anwendbar erfordert eine Erklärung; es schließt eine Kontrolle nicht automatisch von der rechtlichen Beurteilung aus.
A6: ID | B6: Fragestellung | C6: Im Klartext | D6: Antwort | E6: Wer bestätigen kann | F6: Anmerkung/Einschränkung
A7: S01 | B7: Wenn Sie Anwendungen entwickeln oder ändern, wird die Sicherheit vor dem Release überprüft? | C7: Fügen Sie Komponenten von Drittanbietern hinzu und trennen Sie die Prüfung von der Produktion; gibt es keine Entwicklung, erläutern Sie dies unter „Möglicherweise nicht zutreffend.
A8: S02 | B8: Wenn Sie Cloud-Dienste oder Managed IT nutzen, wissen Sie, was der Anbieter schützt und was Sie tun müssen? | C8: Es genügt, dass die Verteilung der Verantwortlichkeiten bekannt und dokumentiert ist; senden Sie den Vertrag jetzt nicht.
A9: S03 | B9: Gibt es für Industrie-, Medizin- oder Automatisierungsgeräte einen Eigentümer und gibt es Zugangs- und Wartungsregeln? | C9: Wählen Sie „Möglicherweise nicht zutreffend, wenn es keine solchen Systeme gibt, das Ausfüllen der Arbeitsmappe erlaubt keine Scans.
A10: S04 | B10: Ist für Websites, Portale oder Anwendungen, die über das Internet zugänglich sind, festgelegt, wer sie unterhält und überprüft? | C10: Integrieren Sie Anwendungen, die von Anbietern erstellt wurden. Geben Sie keine Verwaltungs-URLs, IP-Adressen oder Schwachstellendetails ein.
A11: S05 | B11: Sind wichtige Geräte vor unbefugtem Zugriff und Umweltstörungen geschützt? | C11: Zum Beispiel: kontrollierter Zugriff, Backup-Strom und Brandschutz; für gehostete Systeme, bestätigen Sie die Abdeckung des Anbieters.
A12: S06 | B12: Gibt es eine alternative Möglichkeit, zu kommunizieren und zu koordinieren, wenn E-Mails oder die primäre Infrastruktur nicht verfügbar sind? | C12: Beispiele: gesondert gespeicherte Kontaktdaten und vereinbarter Krisenkanal; persönliche Telefonnummern sind hier nicht einzugeben.
A14: Die Antworten sind vorläufige Erklärungen: Dokumente, Konfigurationen und Wirksamkeit werden in der Vertragsphase anhand von Nachweisen validiert.

Sheet 05_Fristen
A1: 05 | Wo bist du in der Timeline?
A3: Angegebener Status, ohne automatische Fristberechnung; die tatsächliche Frist und die Ausnahmen werden anhand der Dokumente und Umstände des Unternehmens validiert; Berichte jetzt nicht beifügen.
A6: ID | B6: Phase | C6: Rechtlicher/verfahrenstechnischer Bezugspunkt | D6: Angegebener Status | E6: Bekanntes Datum | F6: Welches Datum / welches Dokument | G6: Anmerkung:
A7: D01 | B7: Registrierungsnummer | C7: 30 Tage nach Anwendung der anwendbaren Bestimmungen GEO Art. 18(2) | F7: Datum der Einreichung der Mitteilung Das Ausfüllen der Arbeitsmappe allein bestimmt nicht die Anwendbarkeit.
A8: D02 | B8: Eingang der Registrierungsentscheidung | C8: Bezugspunkt für spätere Verpflichtungen GEO Art. 18 | F8: Datum, an dem die Entscheidung mitgeteilt wurde Verwechseln Sie das Ausgabedatum nicht mit dem Kommunikationsdatum.
A9: D03 | B9: Benannte verantwortliche Person | C9: 30 Tage nach Übermittlung des Registrierungsbeschlusses GEO Art. 14(3)–(4) | F9: Termintermin Berechtigung und Pflichten werden geprüft; die Bereitstellung von IT-Support allein stellt keine Ernennung dar.
A10: D04 | B10: Vorgelegte Risikobewertung | C10: 60 Tage nach Übermittlung der Entscheidung, für das anwendbare Verfahren GEO Art. 18(6) | F10: Einreichungsdatum Die Sicherungsstufe ist nicht die rechtliche Kategorie des Unternehmens.
A11: D05 | B11: Erste Selbsteinschätzung abgeschlossen und eingereicht | C11: 60 Tage ab Vorlage der Risikostufenbeurteilung GEO Art. 18 (7) | F11: Einreichungsdatum; falls abweichend, geben Sie das Fertigstellungsdatum in Notizen an Erfordert Dokumentation und formelles Eigentum; Dieser Fragebogen ersetzt es nicht.
A12: D06 | B12: Eingereichter Plan nach der Selbstbewertung | C12: Für wesentliche Unternehmen: 30 Tage nach Abschluss der Selbstbewertung GEO Art. 12(5) | F12: Datum der Einreichung des Plans Dies ist eine Einreichungsfrist, keine universelle Frist für den Abschluss der Mängelbeseitigung.
A13: D07 | B13: Regelmäßige Selbsteinschätzung | C13: Jährlich nach dem geltenden Verfahren GEO Art. 12(4) | F13: Letztes Einreichungsdatum Dies ergibt sich nicht automatisch aus der Verlängerung eines Support-Abonnements.
A14: D08 | B14: Reguliertes Sicherheitsaudit | C14: Periodisch / ad hoc, nach dem Gesetz und den anwendbaren Instrumenten GEO Arts. 57-58 | F14: Datum des letzten Abschlussberichts, falls vorhanden Der akkreditierte Auditor, die Unabhängigkeit und der Umfang werden überprüft.
A15: D09 | B15: Nachprüfungsplan und Berichterstattung | C15: Fristen in Art. 57(8)–(11), abhängig von den ermittelten Umständen GEO Art. 57(8)–(11) | F15: Angenommene / mitgeteilte Frist, falls vorhanden Getrennt vom Plan nach der Selbsteinschätzung. Eine stillschweigende DNSC-Genehmigung darf nicht angenommen werden.
A16: D10 | B16: Mitteilung, dass Maßnahmen umgesetzt wurden | C16: In Übereinstimmung mit der geltenden Verpflichtung und Durchführungsnachweis GEO Art. 57; anwendbare Instrumente und Ersuchen | F16: Datum der letzten kommunikation, falls vorhanden dies ist keine allgemeine zertifizierung, die vom tool oder berater ausgestellt wurde.
A18: Vorfälle warten nicht auf dieses Projekt: Das anwendbare Verfahren muss eine frühzeitige Warnung innerhalb von 24 Stunden, eine Benachrichtigung innerhalb von 72 Stunden nach Bekanntwerden und einen Abschlussbericht innerhalb der gesetzlichen Frist, vorbehaltlich der besonderen Regeln, unterstützen.

Sheet 06_Zusammenfassung
A1: 06 | Zusammenfassung der erklärten Antworten
A3: Dies ist KEINE DNSC-Fälligkeitsbewertung, kein Compliance-Prozentsatz oder kein Audit-Bericht.
A6: Abschnitt | B6: Fragen | C6: Gültige Auswahl | D6: Blank | E6: Ja | F6: Teilweise | G6: Nein | H6: Unbekannt | I6: Möglicherweise N/A | J6: Außerhalb der Liste | K6: Nichtzutreffendes streichen.
A7: Verwaltung | B7: 14 | C7: =SUM(E7:I7) | D7: =B7-C7-J7 | E7: =COUNTIF('02_Leitung'!$D$7:$D$20,"Ja") | F7: =COUNTIF('02_Leitung'!$D$7:$D$20,"Teilweise") | G7: =COUNTIF('02_Leitung'!$D$7:$D$20,"Nein") | H7: =COUNTIF('02_Leitung'!$D$7:$D$20,"Unbekannt") | I7: =COUNTIF('02_Leitung'!$D$7:$D$20,"Möglicherweise nicht anwendbar") | J7: =COUNTA('02_Leitung'!$D$7:$D$20)-C7 | K7: =IF('02_Leitung'!D7="Möglicherweise nicht anwendbar",IF(LEN('02_Leitung'!F7)=0,1,0),0)+IF('02_Leitung'!D8="Möglicherweise nicht anwendbar",IF(LEN('02_Leitung'!F8)=0,1,0),0)+IF('02_Leitung'!D9="Möglicherweise nicht anwendbar",IF(LEN('02_Leitung'!F9)=0,1,0),0)+IF('02_Leitung'!D10="Möglicherweise nicht anwendbar",IF(LEN('02_Leitung'!F10)=0,1,0),0)+IF('02_Leitung'!D11="Möglicherweise nicht anwendbar",IF(LEN('02_Leitung'!F11)=0,1,0),0)+IF('02_Leitung'!D12="Möglicherweise nicht anwendbar",IF(LEN('02_Leitung'!F12)=0,1,0),0)+IF('02_Leitung'!D13="Möglicherweise nicht anwendbar",IF(LEN('02_Leitung'!F13)=0,1,0),0)+IF('02_Leitung'!D14="Möglicherweise nicht anwendbar",IF(LEN('02_Leitung'!F14)=0,1,0),0)+IF('02_Leitung'!D15="Möglicherweise nicht anwendbar",IF(LEN('02_Leitung'!F15)=0,1,0),0)+IF('02_Leitung'!D16="Möglicherweise nicht anwendbar",IF(LEN('02_Leitung'!F16)=0,1,0),0)+IF('02_Leitung'!D17="Möglicherweise nicht anwendbar",IF(LEN('02_Leitung'!F17)=0,1,0),0)+IF('02_Leitung'!D18="Möglicherweise nicht anwendbar",IF(LEN('02_Leitung'!F18)=0,1,0),0)+IF('02_Leitung'!D19="Möglicherweise nicht anwendbar",IF(LEN('02_Leitung'!F19)=0,1,0),0)+IF('02_Leitung'!D20="Möglicherweise nicht anwendbar",IF(LEN('02_Leitung'!F20)=0,1,0),0)
A8: IT | B8: 24 | C8: =SUM(E8:I8) | D8: =B8-C8-J8 | E8: =COUNTIF('03_IT'!$D$7:$D$30,"Ja") | F8: =COUNTIF('03_IT'!$D$7:$D$30,"Teilweise") | G8: =COUNTIF('03_IT'!$D$7:$D$30,"Nein") | H8: =COUNTIF('03_IT'!$D$7:$D$30,"Unbekannt") | I8: =COUNTIF('03_IT'!$D$7:$D$30,"Möglicherweise nicht anwendbar") | J8: =COUNTA('03_IT'!$D$7:$D$30)-C8 | K8: =IF('03_IT'!D7="Möglicherweise nicht anwendbar",IF(LEN('03_IT'!F7)=0,1,0),0)+IF('03_IT'!D8="Möglicherweise nicht anwendbar",IF(LEN('03_IT'!F8)=0,1,0),0)+IF('03_IT'!D9="Möglicherweise nicht anwendbar",IF(LEN('03_IT'!F9)=0,1,0),0)+IF('03_IT'!D10="Möglicherweise nicht anwendbar",IF(LEN('03_IT'!F10)=0,1,0),0)+IF('03_IT'!D11="Möglicherweise nicht anwendbar",IF(LEN('03_IT'!F11)=0,1,0),0)+IF('03_IT'!D12="Möglicherweise nicht anwendbar",IF(LEN('03_IT'!F12)=0,1,0),0)+IF('03_IT'!D13="Möglicherweise nicht anwendbar",IF(LEN('03_IT'!F13)=0,1,0),0)+IF('03_IT'!D14="Möglicherweise nicht anwendbar",IF(LEN('03_IT'!F14)=0,1,0),0)+IF('03_IT'!D15="Möglicherweise nicht anwendbar",IF(LEN('03_IT'!F15)=0,1,0),0)+IF('03_IT'!D16="Möglicherweise nicht anwendbar",IF(LEN('03_IT'!F16)=0,1,0),0)+IF('03_IT'!D17="Möglicherweise nicht anwendbar",IF(LEN('03_IT'!F17)=0,1,0),0)+IF('03_IT'!D18="Möglicherweise nicht anwendbar",IF(LEN('03_IT'!F18)=0,1,0),0)+IF('03_IT'!D19="Möglicherweise nicht anwendbar",IF(LEN('03_IT'!F19)=0,1,0),0)+IF('03_IT'!D20="Möglicherweise nicht anwendbar",IF(LEN('03_IT'!F20)=0,1,0),0)+IF('03_IT'!D21="Möglicherweise nicht anwendbar",IF(LEN('03_IT'!F21)=0,1,0),0)+IF('03_IT'!D22="Möglicherweise nicht anwendbar",IF(LEN('03_IT'!F22)=0,1,0),0)+IF('03_IT'!D23="Möglicherweise nicht anwendbar",IF(LEN('03_IT'!F23)=0,1,0),0)+IF('03_IT'!D24="Möglicherweise nicht anwendbar",IF(LEN('03_IT'!F24)=0,1,0),0)+IF('03_IT'!D25="Möglicherweise nicht anwendbar",IF(LEN('03_IT'!F25)=0,1,0),0)+IF('03_IT'!D26="Möglicherweise nicht anwendbar",IF(LEN('03_IT'!F26)=0,1,0),0)+IF('03_IT'!D27="Möglicherweise nicht anwendbar",IF(LEN('03_IT'!F27)=0,1,0),0)+IF('03_IT'!D28="Möglicherweise nicht anwendbar",IF(LEN('03_IT'!F28)=0,1,0),0)+IF('03_IT'!D29="Möglicherweise nicht anwendbar",IF(LEN('03_IT'!F29)=0,1,0),0)+IF('03_IT'!D30="Möglicherweise nicht anwendbar",IF(LEN('03_IT'!F30)=0,1,0),0)
A9: Sonderfälle | B9: 6 | C9: =SUM(E9:I9) | D9: =B9-C9-J9 | E9: =COUNTIF('04_Sonderfaelle'!$D$7:$D$12,"Ja") | F9: =COUNTIF('04_Sonderfaelle'!$D$7:$D$12,"Teilweise") | G9: =COUNTIF('04_Sonderfaelle'!$D$7:$D$12,"Nein") | H9: =COUNTIF('04_Sonderfaelle'!$D$7:$D$12,"Unbekannt") | I9: =COUNTIF('04_Sonderfaelle'!$D$7:$D$12,"Möglicherweise nicht anwendbar") | J9: =COUNTA('04_Sonderfaelle'!$D$7:$D$12)-C9 | K9: =IF('04_Sonderfaelle'!D7="Möglicherweise nicht anwendbar",IF(LEN('04_Sonderfaelle'!F7)=0,1,0),0)+IF('04_Sonderfaelle'!D8="Möglicherweise nicht anwendbar",IF(LEN('04_Sonderfaelle'!F8)=0,1,0),0)+IF('04_Sonderfaelle'!D9="Möglicherweise nicht anwendbar",IF(LEN('04_Sonderfaelle'!F9)=0,1,0),0)+IF('04_Sonderfaelle'!D10="Möglicherweise nicht anwendbar",IF(LEN('04_Sonderfaelle'!F10)=0,1,0),0)+IF('04_Sonderfaelle'!D11="Möglicherweise nicht anwendbar",IF(LEN('04_Sonderfaelle'!F11)=0,1,0),0)+IF('04_Sonderfaelle'!D12="Möglicherweise nicht anwendbar",IF(LEN('04_Sonderfaelle'!F12)=0,1,0),0)
A10: TOTAL | B10: =SUM(B7:B9) | C10: =SUM(C7:C9) | D10: =SUM(D7:D9) | E10: =SUM(E7:E9) | F10: =SUM(F7:F9) | G10: =SUM(G7:G9) | H10: =SUM(H7:H9) | I10: =SUM(I7:I9) | ... K10: =SUM(K7:K9)
A12: Gültiger Abschluss | C12: =IF(B10=0,0,C10/B10) | D12: Abschlussindikator, KEIN Compliance-Indikator: Unbekannte Antworten und mögliche Ausschlüsse bedürfen der Klarstellung.
A15: ID | B15: DNSC-Funktion | C15: Thema: | D15: Angegebene Antwort | E15: Name des Eigentümers | F15: Nächster Schritt
A16: M01 | B16: Governance | C16: Zuständigkeiten | D16: =IF('02_Leitung'!D7="","",'02_Leitung'!D7) | E16: =IF('02_Leitung'!E7="","",'02_Leitung'!E7) | F16: =IF(D16="","Noch auszufüllen",IF(D16="Ja","Bestätigungsnachweise",IF(D16="Teilweise","Klären Sie die Abdeckung",IF(D16="Nein","Bewertung der Lücke und der Auswirkungen",IF(D16="Unbekannt","Feststellung des Status",IF(D16="Möglicherweise nicht anwendbar","Anwendbarkeit validieren","Korrigieren der Auswahl"))))))
A17: M02 | B17: Governance | C17: Pflichten und Fristen | D17: =IF('02_Leitung'!D8="","",'02_Leitung'!D8) | E17: =IF('02_Leitung'!E8="","",'02_Leitung'!E8) | F17: =IF(D17="","Noch auszufüllen",IF(D17="Ja","Bestätigungsnachweise",IF(D17="Teilweise","Klären Sie die Abdeckung",IF(D17="Nein","Bewertung der Lücke und der Auswirkungen",IF(D17="Unbekannt","Feststellung des Status",IF(D17="Möglicherweise nicht anwendbar","Anwendbarkeit validieren","Korrigieren der Auswahl"))))))
A18: M03 | B18: Identifizieren | C18: Wesentliche Tätigkeiten | D18: =IF('02_Leitung'!D9="","",'02_Leitung'!D9) | E18: =IF('02_Leitung'!E9="","",'02_Leitung'!E9) | F18: =IF(D18="","Noch auszufüllen",IF(D18="Ja","Bestätigungsnachweise",IF(D18="Teilweise","Klären Sie die Abdeckung",IF(D18="Nein","Bewertung der Lücke und der Auswirkungen",IF(D18="Unbekannt","Feststellung des Status",IF(D18="Möglicherweise nicht anwendbar","Anwendbarkeit validieren","Korrigieren der Auswahl"))))))
A19: M04 | B19: Governance | C19: Risiken | D19: =IF('02_Leitung'!D10="","",'02_Leitung'!D10) | E19: =IF('02_Leitung'!E10="","",'02_Leitung'!E10) | F19: =IF(D19="","Noch auszufüllen",IF(D19="Ja","Bestätigungsnachweise",IF(D19="Teilweise","Klären Sie die Abdeckung",IF(D19="Nein","Bewertung der Lücke und der Auswirkungen",IF(D19="Unbekannt","Feststellung des Status",IF(D19="Möglicherweise nicht anwendbar","Anwendbarkeit validieren","Korrigieren der Auswahl"))))))
A20: M05 | B20: Governance | C20: Politikbereiche | D20: =IF('02_Leitung'!D11="","",'02_Leitung'!D11) | E20: =IF('02_Leitung'!E11="","",'02_Leitung'!E11) | F20: =IF(D20="","Noch auszufüllen",IF(D20="Ja","Bestätigungsnachweise",IF(D20="Teilweise","Klären Sie die Abdeckung",IF(D20="Nein","Bewertung der Lücke und der Auswirkungen",IF(D20="Unbekannt","Feststellung des Status",IF(D20="Möglicherweise nicht anwendbar","Anwendbarkeit validieren","Korrigieren der Auswahl"))))))
A21: M06 | B21: Governance | C21: Berichterstattung und Haushaltsplan | D21: =IF('02_Leitung'!D12="","",'02_Leitung'!D12) | E21: =IF('02_Leitung'!E12="","",'02_Leitung'!E12) | F21: =IF(D21="","Noch auszufüllen",IF(D21="Ja","Bestätigungsnachweise",IF(D21="Teilweise","Klären Sie die Abdeckung",IF(D21="Nein","Bewertung der Lücke und der Auswirkungen",IF(D21="Unbekannt","Feststellung des Status",IF(D21="Möglicherweise nicht anwendbar","Anwendbarkeit validieren","Korrigieren der Auswahl"))))))
A22: M07 | B22: Governance | C22: Anbieter | D22: =IF('02_Leitung'!D13="","",'02_Leitung'!D13) | E22: =IF('02_Leitung'!E13="","",'02_Leitung'!E13) | F22: =IF(D22="","Noch auszufüllen",IF(D22="Ja","Bestätigungsnachweise",IF(D22="Teilweise","Klären Sie die Abdeckung",IF(D22="Nein","Bewertung der Lücke und der Auswirkungen",IF(D22="Unbekannt","Feststellung des Status",IF(D22="Möglicherweise nicht anwendbar","Anwendbarkeit validieren","Korrigieren der Auswahl"))))))
A23: M08 | B23: Schutz | C23: Ausbildung | D23: =IF('02_Leitung'!D14="","",'02_Leitung'!D14) | E23: =IF('02_Leitung'!E14="","",'02_Leitung'!E14) | F23: =IF(D23="","Noch auszufüllen",IF(D23="Ja","Bestätigungsnachweise",IF(D23="Teilweise","Klären Sie die Abdeckung",IF(D23="Nein","Bewertung der Lücke und der Auswirkungen",IF(D23="Unbekannt","Feststellung des Status",IF(D23="Möglicherweise nicht anwendbar","Anwendbarkeit validieren","Korrigieren der Auswahl"))))))
A24: M09 | B24: Schutz | C24: Personal und Zugang | D24: =IF('02_Leitung'!D15="","",'02_Leitung'!D15) | E24: =IF('02_Leitung'!E15="","",'02_Leitung'!E15) | F24: =IF(D24="","Noch auszufüllen",IF(D24="Ja","Bestätigungsnachweise",IF(D24="Teilweise","Klären Sie die Abdeckung",IF(D24="Nein","Bewertung der Lücke und der Auswirkungen",IF(D24="Unbekannt","Feststellung des Status",IF(D24="Möglicherweise nicht anwendbar","Anwendbarkeit validieren","Korrigieren der Auswahl"))))))
A25: M10 | B25: Wiedereinziehung | C25: Kontinuität | D25: =IF('02_Leitung'!D16="","",'02_Leitung'!D16) | E25: =IF('02_Leitung'!E16="","",'02_Leitung'!E16) | F25: =IF(D25="","Noch auszufüllen",IF(D25="Ja","Bestätigungsnachweise",IF(D25="Teilweise","Klären Sie die Abdeckung",IF(D25="Nein","Bewertung der Lücke und der Auswirkungen",IF(D25="Unbekannt","Feststellung des Status",IF(D25="Möglicherweise nicht anwendbar","Anwendbarkeit validieren","Korrigieren der Auswahl"))))))
A26: M11 | B26: Antwort | C26: Störfallentscheidungen | D26: =IF('02_Leitung'!D17="","",'02_Leitung'!D17) | E26: =IF('02_Leitung'!E17="","",'02_Leitung'!E17) | F26: =IF(D26="","Noch auszufüllen",IF(D26="Ja","Bestätigungsnachweise",IF(D26="Teilweise","Klären Sie die Abdeckung",IF(D26="Nein","Bewertung der Lücke und der Auswirkungen",IF(D26="Unbekannt","Feststellung des Status",IF(D26="Möglicherweise nicht anwendbar","Anwendbarkeit validieren","Korrigieren der Auswahl"))))))
A27: M12 | B27: Identifizieren | C27: Nachweise und Überprüfungen | D27: =IF('02_Leitung'!D18="","",'02_Leitung'!D18) | E27: =IF('02_Leitung'!E18="","",'02_Leitung'!E18) | F27: =IF(D27="","Noch auszufüllen",IF(D27="Ja","Bestätigungsnachweise",IF(D27="Teilweise","Klären Sie die Abdeckung",IF(D27="Nein","Bewertung der Lücke und der Auswirkungen",IF(D27="Unbekannt","Feststellung des Status",IF(D27="Möglicherweise nicht anwendbar","Anwendbarkeit validieren","Korrigieren der Auswahl"))))))
... A29: M14 | B29: Governance | C29: Gruppe und Delegation | D29: =IF('02_Leitung'!D20="","",'02_Leitung'!D20) | E29: =IF('02_Leitung'!E20="","",'02_Leitung'!E20) | F29: =IF(D29="","Noch auszufüllen",IF(D29="Ja","Bestätigungsnachweise",IF(D29="Teilweise","Klären Sie die Abdeckung",IF(D29="Nein","Bewertung der Lücke und der Auswirkungen",IF(D29="Unbekannt","Feststellung des Status",IF(D29="Möglicherweise nicht anwendbar","Anwendbarkeit validieren","Korrigieren der Auswahl"))))))
A30: T01 | B30: Identifizieren | C30: Ausrüstung | D30: =IF('03_IT'!D7="","",'03_IT'!D7) | E30: =IF('03_IT'!E7="","",'03_IT'!E7) | F30: =IF(D30="","Noch auszufüllen",IF(D30="Ja","Bestätigungsnachweise",IF(D30="Teilweise","Klären Sie die Abdeckung",IF(D30="Nein","Bewertung der Lücke und der Auswirkungen",IF(D30="Unbekannt","Feststellung des Status",IF(D30="Möglicherweise nicht anwendbar","Anwendbarkeit validieren","Korrigieren der Auswahl"))))))
A31: T02 | B31: Identifizieren | C31: Anträge | D31: =IF('03_IT'!D8="","",'03_IT'!D8) | E31: =IF('03_IT'!E8="","",'03_IT'!E8) | F31: =IF(D31="","Noch auszufüllen",IF(D31="Ja","Bestätigungsnachweise",IF(D31="Teilweise","Klären Sie die Abdeckung",IF(D31="Nein","Bewertung der Lücke und der Auswirkungen",IF(D31="Unbekannt","Feststellung des Status",IF(D31="Möglicherweise nicht anwendbar","Anwendbarkeit validieren","Korrigieren der Auswahl"))))))
A32: T03 | B32: Identifizieren | C32: Altsysteme | D32: =IF('03_IT'!D9="","",'03_IT'!D9) | E32: =IF('03_IT'!E9="","",'03_IT'!E9) | F32: =IF(D32="","Noch auszufüllen",IF(D32="Ja","Bestätigungsnachweise",IF(D32="Teilweise","Klären Sie die Abdeckung",IF(D32="Nein","Bewertung der Lücke und der Auswirkungen",IF(D32="Unbekannt","Feststellung des Status",IF(D32="Möglicherweise nicht anwendbar","Anwendbarkeit validieren","Korrigieren der Auswahl"))))))
A33: T04 | B33: Schutz | C33: Grundkonfiguration | D33: =IF('03_IT'!D10="","",'03_IT'!D10) | E33: =IF('03_IT'!E10="","",'03_IT'!E10) | F33: =IF(D33="","Noch auszufüllen",IF(D33="Ja","Bestätigungsnachweise",IF(D33="Teilweise","Klären Sie die Abdeckung",IF(D33="Nein","Bewertung der Lücke und der Auswirkungen",IF(D33="Unbekannt","Feststellung des Status",IF(D33="Möglicherweise nicht anwendbar","Anwendbarkeit validieren","Korrigieren der Auswahl"))))))
A34: T05 | B34: Schutz | C34: Autorisierte Software | D34: =IF('03_IT'!D11="","",'03_IT'!D11) | E34: =IF('03_IT'!E11="","",'03_IT'!E11) | F34: =IF(D34="","Noch auszufüllen",IF(D34="Ja","Bestätigungsnachweise",IF(D34="Teilweise","Klären Sie die Abdeckung",IF(D34="Nein","Bewertung der Lücke und der Auswirkungen",IF(D34="Unbekannt","Feststellung des Status",IF(D34="Möglicherweise nicht anwendbar","Anwendbarkeit validieren","Korrigieren der Auswahl"))))))
A35: T06 | B35: Schutz | C35: Konten | D35: =IF('03_IT'!D12="","",'03_IT'!D12) | E35: =IF('03_IT'!E12="","",'03_IT'!E12) | F35: =IF(D35="","Noch auszufüllen",IF(D35="Ja","Bestätigungsnachweise",IF(D35="Teilweise","Klären Sie die Abdeckung",IF(D35="Nein","Bewertung der Lücke und der Auswirkungen",IF(D35="Unbekannt","Feststellung des Status",IF(D35="Möglicherweise nicht anwendbar","Anwendbarkeit validieren","Korrigieren der Auswahl"))))))
A36: T07 | B36: Schutz | C36: Verwalter | D36: =IF('03_IT'!D13="","",'03_IT'!D13) | E36: =IF('03_IT'!E13="","",'03_IT'!E13) | F36: =IF(D36="","Noch auszufüllen",IF(D36="Ja","Bestätigungsnachweise",IF(D36="Teilweise","Klären Sie die Abdeckung",IF(D36="Nein","Bewertung der Lücke und der Auswirkungen",IF(D36="Unbekannt","Feststellung des Status",IF(D36="Möglicherweise nicht anwendbar","Anwendbarkeit validieren","Korrigieren der Auswahl"))))))
A37: T08 | B37: Schutz | C37: Zusätzliche Authentifizierung | D37: =IF('03_IT'!D14="","",'03_IT'!D14) | E37: =IF('03_IT'!E14="","",'03_IT'!E14) | F37: =IF(D37="","Noch auszufüllen",IF(D37="Ja","Bestätigungsnachweise",IF(D37="Teilweise","Klären Sie die Abdeckung",IF(D37="Nein","Bewertung der Lücke und der Auswirkungen",IF(D37="Unbekannt","Feststellung des Status",IF(D37="Möglicherweise nicht anwendbar","Anwendbarkeit validieren","Korrigieren der Auswahl"))))))
A38: T09 | B38: Schutz | C38: Zugang zu Informationen | D38: =IF('03_IT'!D15="","",'03_IT'!D15) | E38: =IF('03_IT'!E15="","",'03_IT'!E15) | F38: =IF(D38="","Noch auszufüllen",IF(D38="Ja","Bestätigungsnachweise",IF(D38="Teilweise","Klären Sie die Abdeckung",IF(D38="Nein","Bewertung der Lücke und der Auswirkungen",IF(D38="Unbekannt","Feststellung des Status",IF(D38="Möglicherweise nicht anwendbar","Anwendbarkeit validieren","Korrigieren der Auswahl"))))))
A39: T10 | B39: Detektiv | C39: Geräteschutz | D39: =IF('03_IT'!D16="","",'03_IT'!D16) | E39: =IF('03_IT'!E16="","",'03_IT'!E16) | F39: =IF(D39="","Noch auszufüllen",IF(D39="Ja","Bestätigungsnachweise",IF(D39="Teilweise","Klären Sie die Abdeckung",IF(D39="Nein","Bewertung der Lücke und der Auswirkungen",IF(D39="Unbekannt","Feststellung des Status",IF(D39="Möglicherweise nicht anwendbar","Anwendbarkeit validieren","Korrigieren der Auswahl"))))))
A40: T11 | B40: Schutz | C40: Verschlüsselung | D40: =IF('03_IT'!D17="","",'03_IT'!D17) | E40: =IF('03_IT'!E17="","",'03_IT'!E17) | F40: =IF(D40="","Noch auszufüllen",IF(D40="Ja","Bestätigungsnachweise",IF(D40="Teilweise","Klären Sie die Abdeckung",IF(D40="Nein","Bewertung der Lücke und der Auswirkungen",IF(D40="Unbekannt","Feststellung des Status",IF(D40="Möglicherweise nicht anwendbar","Anwendbarkeit validieren","Korrigieren der Auswahl"))))))
A41: T12 | B41: Schutz | C41: Daten und gemeinsame Nutzung | D41: =IF('03_IT'!D18="","",'03_IT'!D18) | E41: =IF('03_IT'!E18="","",'03_IT'!E18) | F41: =IF(D41="","Noch auszufüllen",IF(D41="Ja","Bestätigungsnachweise",IF(D41="Teilweise","Klären Sie die Abdeckung",IF(D41="Nein","Bewertung der Lücke und der Auswirkungen",IF(D41="Unbekannt","Feststellung des Status",IF(D41="Möglicherweise nicht anwendbar","Anwendbarkeit validieren","Korrigieren der Auswahl"))))))
... A53: T24 | B53: Identifizieren | C53: Unabhängige Überprüfungen | D53: =IF('03_IT'!D30="","",'03_IT'!D30) | E53: =IF('03_IT'!E30="","",'03_IT'!E30) | F53: =IF(D53="","Noch auszufüllen",IF(D53="Ja","Bestätigungsnachweise",IF(D53="Teilweise","Klären Sie die Abdeckung",IF(D53="Nein","Bewertung der Lücke und der Auswirkungen",IF(D53="Unbekannt","Feststellung des Status",IF(D53="Möglicherweise nicht anwendbar","Anwendbarkeit validieren","Korrigieren der Auswahl"))))))
A54: S01 | B54: Schutz | C54: Softwareentwicklung | D54: =IF('04_Sonderfaelle'!D7="","",'04_Sonderfaelle'!D7) | E54: =IF('04_Sonderfaelle'!E7="","",'04_Sonderfaelle'!E7) | F54: =IF(D54="","Noch auszufüllen",IF(D54="Ja","Bestätigungsnachweise",IF(D54="Teilweise","Klären Sie die Abdeckung",IF(D54="Nein","Bewertung der Lücke und der Auswirkungen",IF(D54="Unbekannt","Feststellung des Status",IF(D54="Möglicherweise nicht anwendbar","Anwendbarkeit validieren","Korrigieren der Auswahl"))))))
A55: S02 | B55: Governance | C55: Cloud und externe Services | D55: =IF('04_Sonderfaelle'!D8="","",'04_Sonderfaelle'!D8) | E55: =IF('04_Sonderfaelle'!E8="","",'04_Sonderfaelle'!E8) | F55: =IF(D55="","Noch auszufüllen",IF(D55="Ja","Bestätigungsnachweise",IF(D55="Teilweise","Klären Sie die Abdeckung",IF(D55="Nein","Bewertung der Lücke und der Auswirkungen",IF(D55="Unbekannt","Feststellung des Status",IF(D55="Möglicherweise nicht anwendbar","Anwendbarkeit validieren","Korrigieren der Auswahl"))))))
A56: S03 | B56: Schutz | C56: Herstellung und Spezialgeräte | D56: =IF('04_Sonderfaelle'!D9="","",'04_Sonderfaelle'!D9) | E56: =IF('04_Sonderfaelle'!E9="","",'04_Sonderfaelle'!E9) | F56: =IF(D56="","Noch auszufüllen",IF(D56="Ja","Bestätigungsnachweise",IF(D56="Teilweise","Klären Sie die Abdeckung",IF(D56="Nein","Bewertung der Lücke und der Auswirkungen",IF(D56="Unbekannt","Feststellung des Status",IF(D56="Möglicherweise nicht anwendbar","Anwendbarkeit validieren","Korrigieren der Auswahl"))))))
A57: S04 | B57: Schutz | C57: Öffentlich zugängliche Anwendungen | D57: =IF('04_Sonderfaelle'!D10="","",'04_Sonderfaelle'!D10) | E57: =IF('04_Sonderfaelle'!E10="","",'04_Sonderfaelle'!E10) | F57: =IF(D57="","Noch auszufüllen",IF(D57="Ja","Bestätigungsnachweise",IF(D57="Teilweise","Klären Sie die Abdeckung",IF(D57="Nein","Bewertung der Lücke und der Auswirkungen",IF(D57="Unbekannt","Feststellung des Status",IF(D57="Möglicherweise nicht anwendbar","Anwendbarkeit validieren","Korrigieren der Auswahl"))))))
A58: S05 | B58: Schutz | C58: Physischer Schutz | D58: =IF('04_Sonderfaelle'!D11="","",'04_Sonderfaelle'!D11) | E58: =IF('04_Sonderfaelle'!E11="","",'04_Sonderfaelle'!E11) | F58: =IF(D58="","Noch auszufüllen",IF(D58="Ja","Bestätigungsnachweise",IF(D58="Teilweise","Klären Sie die Abdeckung",IF(D58="Nein","Bewertung der Lücke und der Auswirkungen",IF(D58="Unbekannt","Feststellung des Status",IF(D58="Möglicherweise nicht anwendbar","Anwendbarkeit validieren","Korrigieren der Auswahl"))))))
A59: S06 | B59: Wiedereinziehung | C59: Krisenkommunikation | D59: =IF('04_Sonderfaelle'!D12="","",'04_Sonderfaelle'!D12) | E59: =IF('04_Sonderfaelle'!E12="","",'04_Sonderfaelle'!E12) | F59: =IF(D59="","Noch auszufüllen",IF(D59="Ja","Bestätigungsnachweise",IF(D59="Teilweise","Klären Sie die Abdeckung",IF(D59="Nein","Bewertung der Lücke und der Auswirkungen",IF(D59="Unbekannt","Feststellung des Status",IF(D59="Möglicherweise nicht anwendbar","Anwendbarkeit validieren","Korrigieren der Auswahl"))))))
A61: Die angegebene Funktion ist die Hauptverbindung, die für die Anleitung vorgesehen ist; eine Frage kann mehrere Bereiche abdecken; diese Zusammenfassung ist nicht der offizielle Kontrollkatalog.

Sheet 07_Naechste_Schritte
A1: 07 | Von Antworten zu einem abgegrenzten Projekt
A3: Es handelt sich um Service-Optionen. Es werden nur die notwendigen Phasen vertraglich vereinbart; Sie können direkt zum Audit übergehen, wenn die Umstände es erfordern. Keine Auswahl stellt einen Auftrag oder Auftrag dar.
A6: Code | B6: Mögliche Phase | C6: Was es abdeckt | D6: Lieferbar | E6: Wichtige Grenze | F6: Interesse an Diskussionen
A7: P1 | B7: Erstbeurteilung/Vorprüfung | C7: Einstufung und Anwendungsbereich; Risikobewertung; Überprüfung der Dokumentation und Umsetzung; Vorbereitung der Selbstbewertung nach dem geltenden Verfahren. | D7: Status, Lücke und Evidenzbericht; Unterstützung für formelles Eigentum und Einreichung, wenn erforderlich. | E7: Dies ist nicht die reglementierte Prüfung und ist keine Konformitätsbescheinigung.
A8: P2 | B8: Unabhängige reglementierte Prüfung | C8: Audit im vereinbarten Umfang, durchgeführt von einem unabhängigen DNSC-akkreditierten Auditor; technische Tools, Interviews, Dokumente und autorisierte Tests. | D8: Auditbericht und -feststellungen; Unterlagen gemäß den geltenden Anforderungen. | E8: Ein Scan-Ergebnis allein ist kein Audit, sondern die Unabhängigkeit wird auch zwischen Unternehmen der gleichen Gruppe überprüft.
A9: P3 | B9: Sanierungsplan und Budgetierung | C9: Risikobasierte Priorisierung von Ergebnissen; technische/organisatorische Alternativen; Eigentümer, Fristen, Abhängigkeiten sowie anfängliche und wiederkehrende Kosten. | D9: Formal verabschiedeter Sanierungsplan, Budget mit Optionen und Einreichungsdatei, wenn gesetzlich vorgeschrieben. | E9: Der Plan und die Fristen gelten nicht als vom DNSC genehmigt, nur weil der Vorschlag erstellt wurde.
A10: P4 | B10: Durchführung und Überprüfung | C10: Konfiguration und Implementierung innerhalb genehmigter Grenzen; Schulungen; Abnahmeprüfungen und Nachweise; vorhandene Produkte werden wiederverwendet, wenn sie die Anforderungen erfüllen. | D10: Implementierte Kontrollen, Testergebnisse und Verschlussnachweise; genehmigte Restrisiken. | E10: Lizenzen, Hardware, OT-Operationen und zusätzliche Arbeiten sind in dem Vorschlag enthalten.
A11: P5 | B11: Wartungs- und Berichtsunterstützung | C11: Überprüfungen, erneute Tests, Fristverfolgung, Dokumentation und Unterstützung bei der entsprechenden Kommunikation mit der DNSC / Sektorbehörde. | D11: Aktualisierte Evidenz, Managementberichte und Unterstützung bei der Berichterstattung und Neubewertung. | E11: Eine Maßnahme wird nicht ohne Verifizierung für umgesetzt erklärt, dies beinhaltet nicht automatisch ein 24/7 SOC oder die Übertragung der Managementverantwortung.
A13: Nach der Rückkehr: Wir klären die Antworten und den Umfang, legen die erforderlichen Ergebnisse fest und erstellen einen separaten Vorschlag.
A15: Jeder spätere Zugriff erfordert eine schriftliche Genehmigung, die Folgendes umfasst: Systeme, Zweck, Methoden, Zeitrahmen, gesammelte Daten, Personen, Stoppregeln, Aufbewahrung und Löschung.
A17: Das Unternehmen und seine Geschäftsleitung behalten ihre rechtlichen Verpflichtungen für die formale Eigentümerschaft und Berichterstattung. Der Berater leistet im Rahmen des Mandats Unterstützung; der unabhängige Prüfer kommt zu den Prüfungsergebnissen.

Sheet 08_Referenzen
A1: 08 | Quellen und methodische Beschränkungen
A3: Bezugsdatum: 6. Oktober 2026. Dieses Dokument ist ein Vorbereitungsinstrument, kein offizielles DNSC-Formular. Die für die Entität geltende Fassung wird am Bewertungsdatum festgelegt.
A6: ID | B6: Quelle | C6: URL/Standort | D6: Wie es verwendet wurde
A7: S01 | B7: Vorgelegtes Ausgangsblatt | C7: NIS2-Verifizierungsblatt.pdf | D7: Kundenanhängung: Klassifikations- und Zeitlinien-Referenzpunkte, keine Bestimmung für ein Unternehmen.
A8: S02 | B8: Technischer Fragebogen | C8: Fragebogen CISv8 (NIS2) | D8: 63 Quellfragen, die in 20 Themen gegliedert sind. Unsere eigene thematische Korrelation; die Ergebnisse, Produkte und Labels des Tools sind keine DNSC-Anforderungen.
A9: L01 | B9: Richtlinie (EU) 2022/2555 | C9: https://eur-lex.europa.eu/eli/dir/2022/2555/oj | D9: Art. 20: Management; Art. 21: Maßnahmen; Art. 23: Vorfälle; es werden nicht alle rumänischen Verfahrensfristen festgelegt.
A10: L02 | B10: Regierungsnotverordnung (GEO) Nr. 155/2024, genehmigt durch Gesetz Nr. 124/2025 | C10: https://legislatie.just.ro/public/DetaliiDocument/293121 | D10: Konsolidierte Version: Art. 11-15, 18, 57-58 und Anhänge; Verfahren, Verantwortlichkeiten, Registrierung und Prüfung.
A11: L03 | B11: DNSC Order Nr. 1/2026 — Framework und Anhänge | C11: https://legislatie.just.ro/Public/DetaliiDocumentAfis/314681 | D11: Veröffentlicht am 27. August 2026; Measures and self-assessment methodology.
A12: L04 | B12: Maßnahmen für das Risikomanagement im Bereich Cybersicherheit — Anhang 1 | C12: https://legislatie.just.ro/Public/DetaliiDocument/314360 | D12: Funktionen GV, ID, PR, DE, RS, RC. Die Zuordnung in diesem Paket ist selektiv und thematisch und ist keine Umsetzungserklärung.
A13: L05 | B13: Selbstbewertungsmethodik — Anhang 2 | C13: https://legislatie.just.ro/Public/DetaliiDocument/314683 | D13: Dokumentation und Umsetzung; die offizielle Punktzahl wird nicht aus den 44 vorläufigen Antworten berechnet.
A14: L06 | B14: DNSC Order Nr. 2/2026 | C14: https://legislatie.just.ro/Public/DetaliiDocument/314676 | D14: Änderungsanträge zu nicht anwendbaren Kontrollen und zur Anwendung von Gruppenkontrollen.
A15: L07 | B15: DNSC-Beschluss Nr. 3/2026 und die Regeln für Gruppen | C15: https://legislatie.just.ro/Public/DetaliiDocument/314699 | D15: Für die von der Gruppe verwalteten Kontrollen sind weiterhin lokale Verantwortlichkeiten und Nachweise erforderlich.
A16: L08 | B16: Durchführungsverordnung (EU) 2024/2690 | C16: https://eur-lex.europa.eu/eli/reg_impl/2024/2690/oj | D16: Zusätzliche Bewertung für die digitalen und Managed-Service-Kategorien, für die sie gilt.
A17: L09 | B17: Verordnung (EU) 2022/2554 — DORA | C17: https://eur-lex.europa.eu/eli/reg/2022/2554/oj | D17: Besondere sektorale Regelung, gesondert bewertet; eine vollständige kumulative Anwendung mit NIS2 wird nicht angenommen.
A18: L10 | B18: Vollständiger Wortlaut der Maßnahmen — Wiedergabe des Instruments | C18: https://www.infodosar.ro/monitorul-oficial/directoratul-national-de-securitate-cibernetica/340446-masuri-0-2026 | D18: Technisches Lesen des veröffentlichten Textes; die Kennung 0 des Anhangs stellt keine separate Reihenfolge dar.
A21: Die Zusammenfassung von 44 Fragen deckt alle 63 CIS v8-Fragen thematisch ab. Die detaillierte technische Kartierung und die zu überprüfenden Beweise sind dem internen Arbeitsdokument vorbehalten.
A23: Die Basic / Standardized / Rationalized / Dynamic-Skalen, Risikospalten und Produktempfehlungen von CIS v8 wurden nicht in einen DNSC-Score, ein Budget oder obligatorische Einkaufsanforderungen umgewandelt.
